BEGIN:VCALENDAR
VERSION:2.0
PRODID:-//Vespa Club Groningen - ECPv5.16.2.1//NONSGML v1.0//EN
CALSCALE:GREGORIAN
METHOD:PUBLISH
X-WR-CALNAME:Vespa Club Groningen
X-ORIGINAL-URL:https://vespaclubgroningen.nl
X-WR-CALDESC:Evenementen voor Vespa Club Groningen
BEGIN:VTIMEZONE
TZID:Europe/Amsterdam
BEGIN:DAYLIGHT
TZOFFSETFROM:+0100
TZOFFSETTO:+0200
TZNAME:CEST
DTSTART:20260329T010000
END:DAYLIGHT
BEGIN:STANDARD
TZOFFSETFROM:+0200
TZOFFSETTO:+0100
TZNAME:CET
DTSTART:20261025T010000
END:STANDARD
END:VTIMEZONE
BEGIN:VEVENT
DTSTART;VALUE=DATE:20260425
DTEND;VALUE=DATE:20260426
DTSTAMP:20260419T171801
CREATED:20251204T081429Z
LAST-MODIFIED:20260216T085941Z
UID:2516-1777075200-1777161599@vespaclubgroningen.nl
SUMMARY:1e Vesparit (organisatie bij Simon)
DESCRIPTION:info volgt per mail.
URL:https://vespaclubgroningen.nl/agenda-item/zaterdag-25-04-2026-1e-vesparit-org/
CATEGORIES:VCG Rit
END:VEVENT
BEGIN:VEVENT
DTSTART;VALUE=DATE:20260426
DTEND;VALUE=DATE:20260427
DTSTAMP:20260419T171801
CREATED:20260216T093604Z
LAST-MODIFIED:20260216T094021Z
UID:2609-1777161600-1777247999@vespaclubgroningen.nl
SUMMARY:2-Takt treffen Neuenburg - Senfpott
DESCRIPTION:Info op te vragen bij Jens.
URL:https://vespaclubgroningen.nl/agenda-item/2-takt-treffen-neuenburg-senfpott/
CATEGORIES:Externe Rit
END:VEVENT
BEGIN:VEVENT
DTSTART;VALUE=DATE:20260516
DTEND;VALUE=DATE:20260517
DTSTAMP:20260419T171801
CREATED:20251204T081508Z
LAST-MODIFIED:20260216T090013Z
UID:2518-1778889600-1778975999@vespaclubgroningen.nl
SUMMARY:2e Vesparit (organisatie bij Roland)
DESCRIPTION:Info volgt per mail.
URL:https://vespaclubgroningen.nl/agenda-item/zaterdag-16-05-2026-2e-vesparit-org/
CATEGORIES:VCG Rit
END:VEVENT
BEGIN:VEVENT
DTSTART;VALUE=DATE:20260604
DTEND;VALUE=DATE:20260608
DTSTAMP:20260419T171801
CREATED:20251204T090432Z
LAST-MODIFIED:20260216T094513Z
UID:2541-1780531200-1780876799@vespaclubgroningen.nl
SUMMARY:European Vespisti Week Oostende
DESCRIPTION:Link naar European Vespisti Week
URL:https://vespaclubgroningen.nl/agenda-item/european-vespa-days-oostende/
CATEGORIES:Externe Bijeenkomst
END:VEVENT
BEGIN:VEVENT
DTSTART;VALUE=DATE:20260611
DTEND;VALUE=DATE:20260615
DTSTAMP:20260419T171801
CREATED:20251204T090551Z
LAST-MODIFIED:20251204T090551Z
UID:2543-1781136000-1781481599@vespaclubgroningen.nl
SUMMARY:Vespa Alp Days
DESCRIPTION:
URL:https://vespaclubgroningen.nl/agenda-item/vespa-alp-days/
CATEGORIES:Externe Bijeenkomst
END:VEVENT
BEGIN:VEVENT
DTSTART;VALUE=DATE:20260620
DTEND;VALUE=DATE:20260621
DTSTAMP:20260419T171801
CREATED:20251204T081553Z
LAST-MODIFIED:20251204T090913Z
UID:2520-1781913600-1781999999@vespaclubgroningen.nl
SUMMARY:3e Vesparit (organisatie bij Lars & Riet)
DESCRIPTION:Info volgt per mail.
URL:https://vespaclubgroningen.nl/agenda-item/zaterdag-20-06-2026-3e-vesparit-organisatie-bij-lars-riet/
CATEGORIES:VCG Rit
END:VEVENT
BEGIN:VEVENT
DTSTART;VALUE=DATE:20260625
DTEND;VALUE=DATE:20260629
DTSTAMP:20260419T171801
CREATED:20251204T090705Z
LAST-MODIFIED:20251204T091103Z
UID:2545-1782345600-1782691199@vespaclubgroningen.nl
SUMMARY:Vespa World Days Rome
DESCRIPTION:
URL:https://vespaclubgroningen.nl/agenda-item/vespa-world-days-rome/
CATEGORIES:Externe Bijeenkomst
END:VEVENT
BEGIN:VEVENT
DTSTART;VALUE=DATE:20260712
DTEND;VALUE=DATE:20260713
DTSTAMP:20260419T171801
CREATED:20251204T081640Z
LAST-MODIFIED:20260309T092307Z
UID:2522-1783814400-1783900799@vespaclubgroningen.nl
SUMMARY:4e Vesparit (organisatie bij Hans & Anke)
DESCRIPTION:info volgt per mail
URL:https://vespaclubgroningen.nl/agenda-item/zaterdag-11-07-2026-4e-vesparit-organisatie-bij-hans-anke/
CATEGORIES:VCG Rit
END:VEVENT
BEGIN:VEVENT
DTSTART;VALUE=DATE:20260802
DTEND;VALUE=DATE:20260803
DTSTAMP:20260419T171801
CREATED:20251204T081744Z
LAST-MODIFIED:20260309T092234Z
UID:2524-1785628800-1785715199@vespaclubgroningen.nl
SUMMARY:5e Vesparit (organisatie bij Henri & Caty)
DESCRIPTION:Info volgt per mail.
URL:https://vespaclubgroningen.nl/agenda-item/zaterdag-01-08-2026-5e-vesparit-organisatie-bij-henri-caty/
CATEGORIES:VCG Rit
END:VEVENT
BEGIN:VEVENT
DTSTART;VALUE=DATE:20260822
DTEND;VALUE=DATE:20260823
DTSTAMP:20260419T171801
CREATED:20251204T081837Z
LAST-MODIFIED:20251204T090842Z
UID:2526-1787356800-1787443199@vespaclubgroningen.nl
SUMMARY:6e Vesparit (organisatie bij Eugene)
DESCRIPTION:Info volgt per mail.
URL:https://vespaclubgroningen.nl/agenda-item/zaterdag-22-08-2026-6e-vesparit-organisatie-bij-eugene/
CATEGORIES:VCG Rit
END:VEVENT
BEGIN:VEVENT
DTSTART;VALUE=DATE:20260912
DTEND;VALUE=DATE:20260913
DTSTAMP:20260419T171801
CREATED:20251204T081928Z
LAST-MODIFIED:20251204T090831Z
UID:2528-1789171200-1789257599@vespaclubgroningen.nl
SUMMARY:7e Vesparit (organisatie bij Rene Drenthe)
DESCRIPTION:Info volgt per mail.
URL:https://vespaclubgroningen.nl/agenda-item/zaterdag-12-09-2026-7e-vesparit-organisatie-bij-rene-drenthe/
CATEGORIES:VCG Rit
END:VEVENT
BEGIN:VEVENT
DTSTART;VALUE=DATE:20261003
DTEND;VALUE=DATE:20261004
DTSTAMP:20260419T171801
CREATED:20251204T082015Z
LAST-MODIFIED:20260216T085833Z
UID:2530-1790985600-1791071999@vespaclubgroningen.nl
SUMMARY:8e Vesparit - snertrit (organisatie bij Koos)
DESCRIPTION:Info volgt per mail.
URL:https://vespaclubgroningen.nl/agenda-item/zaterdag-03-10-2026-8e-vesparit-org/
CATEGORIES:VCG Rit
END:VEVENT
BEGIN:VEVENT
DTSTART;VALUE=DATE:20261024
DTEND;VALUE=DATE:20261025
DTSTAMP:20260419T171801
CREATED:20251204T082058Z
LAST-MODIFIED:20251204T090806Z
UID:2532-1792800000-1792886399@vespaclubgroningen.nl
SUMMARY:Sleutel Middag bij Evert & Jacqueline
DESCRIPTION:Info volgt per mail.
URL:https://vespaclubgroningen.nl/agenda-item/zaterdag-24-10-2026-sleutel-middag-bij-evert-jacqueline/
CATEGORIES:VCG Sleuteldag
END:VEVENT
BEGIN:VEVENT
DTSTART;VALUE=DATE:20261121
DTEND;VALUE=DATE:20261122
DTSTAMP:20260419T171801
CREATED:20251204T082239Z
LAST-MODIFIED:20251204T090755Z
UID:2536-1795219200-1795305599@vespaclubgroningen.nl
SUMMARY:Najaarsbijeenkomst
DESCRIPTION:Info volgt per mail.
URL:https://vespaclubgroningen.nl/agenda-item/zaterdag-21-11-2026-najaarsbijeenkomst/
CATEGORIES:VCG Bijeenkomst
END:VEVENT
END:VCALENDAR